{"text_format":"1","workbook":"xlsx","n_sheets":3,"sheets":["Start","Plan","Goal"],"not_rendered":{"charts":0,"images":5,"macros":1,"external_links":0,"defined_names":3,"comments":1,"pivot_tables":0},"unopened":[],"bounds":{"document_bytes":16777216,"sheet_cells":100000,"rows_first":2000,"rows_last":500,"rows_between":2000,"halvings":0,"cell_chars":16384,"cell_head_chars":4096},"cells_cut":0,"cells_raw":0,"read":"whole","date_system":"1900"}

{"sheet":"Start","index":0,"n_rows":31,"n_cols":12,"rows_kept":31,"cut":false,"hidden":false,"merged":[[18,1,18,8],[3,1,3,9],[30,3,30,6],[24,2,24,9],[25,4,25,9],[26,7,26,9],[27,7,27,9],[26,6,27,6],[28,7,28,9],[29,7,29,9],[30,7,30,9],[11,1,11,8],[19,1,19,8],[18,11,18,18],[19,11,19,18],[1,1,1,9],[10,1,10,8],[12,1,12,8],[13,1,13,8],[5,1,5,8],[6,1,6,8],[7,1,7,8],[8,1,8,8],[9,1,9,8],[16,11,16,18],[17,11,17,18],[1,11,3,15],[15,4,15,7],[16,4,16,7]]}
[]
[null,"ملف مساعد لقراء كتاب \"السر في تداول النجاح\"",null,null,null,null,null,null,null,null,null,"جميع الحقوق محفوظة للاتجاه الأفضل"]
[]
[null,"ملف الأهداف والخطة - 4 سنوات"]
[]
[null,"شكراً لاقتناءك كتاب \"السر في تداول النجاح\"",null,null,null,null,null,null,null,"×"]
[null,"هذا الملف مجاني ومخصص لقراء الكتاب، ولن تستفيد منه مالم تقرأه وتكتسب",null,null,null,null,null,null,null,"×"]
[null,"المعلومات التأسيسية الهامة."]
[null,"هو ملف مساعد، بمعنى ان استخدامه سيساعدك في طريقك لاحتراف التداول",null,null,null,null,null,null,null,"×"]
[null,"ولا يضمن الملف بحد ذاته النجاح. ولا نتحمل أي مسئوليات من نتائج تداولك"]
[null,"احفظ نسخة من الملف في جهازك",null,null,null,null,null,null,null,"×"]
[null,"الملف محمي ولا يمكن تغيير المعادلات الرياضية فيه أو التنسيق",null,null,null,null,null,null,null,"×"]
[null,"اكتب اسمك وتاريخ تنفيذ الملف، ثم اضغط على الرابط لتسجيل بيانات خطتك",null,null,null,null,null,null,null,"×"]
[null,"وطباعتها، ثم اضغط على الأهداف لمشاهدة وطباعة هدفك"]
[]
[null,null,null,null,null,null,null,null,"الاسم"]
[null,null,null,null,null,null,null,null,"التاريخ",null,null,"إن كنت قد حصلت على الكتاب من خلال طبعة منسوخة فأنت تعتبر سارق"]
[null,null,null,null,null,null,null,null,null,null,null,"للحقوق الفكرية للكتاب نفسه، ولا يحق لك بالطبع استخدام هذا الملف."]
[null,"لمزيد من المساعدة، يمكنك زيارة موقع الاتجاه الأفضل وطلب مساعدة الدعم",null,null,null,null,null,null,null,"×",null,"الاتجاه الأفضل تحتفظ بحقها القانوني لمقاضاة مستخدم الملف بدون حق"]
[null,"الفني من خلال الموقع أو مراسلتنا على الايميل: Support@BetterTrend.Net",null,null,null,null,null,null,null,null,null,"أو إذن وبدون شراء الكتاب من منافذ البيع الرسمية أو تقديمه بعلم الناشر"]
[]
[]
[]
[]
[null,null,"للحصول على نسخة، يرجى شراء كتاب \"السر في تداول النجاح\" متجر دار تشكيل "]
[null,null,null,null,"https://tashkeell.com/xAZnql"]
[null,null,null,null,null,null,"Twitter","@BetterTrend_net_"]
[null,null,null,null,null,null,null,"@Al_Yahya_"]
[null,null,null,null,null,null,"Email","Support@BetterTrend.Net"]
[null,null,null,null,null,null,null,"تفضل بزيارة موقعنا"]
[null,null,null,"حقوق النسخ محفوظة",null,null,null,"www.BetterTrend.Net"]

{"sheet":"Plan","index":1,"n_rows":51,"n_cols":29,"rows_kept":51,"cut":false,"hidden":false,"merged":[[50,3,50,6],[1,2,1,7],[3,2,3,7],[8,2,25,4],[45,5,45,7],[44,4,44,7],[11,6,11,7],[5,6,5,7],[6,6,6,7],[8,6,8,7],[9,6,9,7]]}
[]
[null,null,"ملف مساعد لقراء كتاب \"السر في تداول النجاح\""]
[]
[null,null,"ملف الأهداف والخطة - 4 سنوات"]
[]
[null,null,null,null,null,null,"إسم المتداول المحترف"]
[null,null,null,null,null,null,{"$f":"IF(Start!E16:H16=\"\",\"قم بكتابة اسمك في صفحة البداية\",Start!E16:H16)","v":"قم بكتابة اسمك في صفحة البداية"}]
[]
[null,null,"* قم بتعبئة الخانات البيضاء فقط\n\n* البيانات الموضحة هي بيانات توضيحية للمساعدة لخطة مثالية لا يشترط أن تكون مناسبة لك.\n\n* ضع الخطة التي تناسب وضعك ومحفظتك واستراتيجيتك وقم باختبارها تاريخيا ولحظيا قبل تطبيقها\n\n* لاستعادة البيانات التلقائية اضغط على استعادة ولمسح البيانات اضغط على مسح\n\nيجب تفعيل خاصية الماكرو للاستعادة والمسح",null,null,null,"تاريخ إعداد هذا الهدف"]
[null,null,null,null,null,null,{"$f":"IF(Start!E17:H17=\"\",\"قم بكتابة التاريخ في صفحة البداية\",Start!E17:H17)","v":"قم بكتابة التاريخ في صفحة البداية"}]
[]
[null,null,null,null,null,null,"إعدادات الهدف والخطة للمحفظة"]
[]
[null,null,null,null,null,null,"عربي","اللغة",null,"عربي","English"]
[null,"أسبوعي",null,null,null,null,null,"نوع التداول (يومي أو أسبوعي أو شهري)",null,"يومي","أسبوعي","شهري"]
[null,"ريال",null,null,null,null,null,"عملة الهدف",null,"ريال","$"]
[null,1000000,null,null,null,null,null,"الهدف المطلوب في 4 سنوات",null,{"$f":"G17-(15*G17/100)","v":0},{"$f":"IF(G14=J14,\"اكمل البيانات\",\"Input All Data\")","v":"اكمل البيانات"},5000,10000000]
[null,100000,null,null,null,null,null,"مبلغ المحفظة",null,null,1000,null,null,10000000]
[null,0.5,null,null,null,null,null,"نسبة الرصيد العامل للمحفظة",null,{"$f":"G18*G19","v":0},0.25,0.33,0.5,0.75,1]
[null,null,null,null,null,null,{"$f":"IF(OR(G18=\"\",G19=\"\"),\"\",G19*G18)","v":""},"رصيد المحفظة العامل"]
[null,7.4999999999999997E-2,null,null,null,null,null,{"$f":"\"نسبة أقصى خسارة (\"&G15&\")\"","v":"نسبة أقصى خسارة ()"},null,0.15,0.125,0.1,7.4999999999999997E-2,6.5000000000000002E-2,0.06,5.5E-2,0.05,4.4999999999999998E-2,0.04,3.5000000000000003E-2,0.03,2.5000000000000001E-2,0.02,1.4999999999999999E-2,1.2500000000000001E-2,0.01,7.4999999999999997E-3,5.0000000000000001E-3,2.5000000000000001E-3]
[null,null,null,null,null,null,{"$f":"IF(OR(G21=\"\",G20=\"\"),\"\",G21*G20)","v":""},{"$f":"\"أقصى هامش مخاطرة (\"&G15&\")\"","v":"أقصى هامش مخاطرة ()"}]
[null,5,null,null,null,null,null,{"$f":"\"عدد الصفقات (\"&G15&\")\"","v":"عدد الصفقات ()"},null,1,50]
[null,1,null,null,null,null,null,"عدد الصفقات في نفس اللحظة",null,1,50]
[null,null,null,null,null,null,{"$f":"IF(OR(G20=\"\",G24=\"\"),\"\",G20/G24)","v":""},"مبلغ الصفقة الواحدة"]
[null,null,null,null,null,null,{"$f":"IF(OR(G21=\"\",G23=\"\"),\"\",G21/G23)","v":""},"أقصى خسارة في الصفقة الواحدة %"]
[null,null,null,null,{"$f":"IF(G27=\"\",\"\",G27/G25)","v":""},null,{"$f":"IF(OR(G25=\"\",G26=\"\"),\"\",G26*G25)","v":""},"مقدار المخاطرة في الصفقة"]
[null,43831,null,null,null,null,null,"أول يوم في الخطة",null,{"$f":"TODAY()","v":"2022-06-12"}]
[null,8,null,null,null,null,null,"شهر الاجازة",null,1,2,3,4,5,6,7,8,9,10,11,12]
[null,17,null,null,null,null,null,"عدد الأيام في الشهر",null,15,20]
[null,0.15,null,null,null,null,null,"نسبة جني الربح الشهري",null,0.9,0.8,0.75,0.7,0.6,0.5,0.4,0.3,0.25,0.2,0.15,0.1,0.05,0]
[null,0.7,null,null,null,null,null,"نسبة نجاح الاستراتيجية",null,0.4,1]
[null,1.25,null,null,null,null,null,"مضاعف الربح مقابل الخسارة",null,1,1.25,1.5,1.75,2,2.5,3,4,5]
[null,null,null,null,{"$f":"IF(G34=\"\",\"\",G34/G25)","v":""},null,{"$f":"IF(OR(G33=\"\",G27=\"\"),\"\",G33*G27)","v":""},"مقدار الربح مقابل الخسارة"]
[null,null,null,null,null,null,{"$f":"IF(OR(G32=\"\",G23=\"\"),\"\",ROUNDDOWN(G32*G23,0))","v":""},{"$f":"\"عدد الصفقات الرابحة (\"&G15&\")\"","v":"عدد الصفقات الرابحة ()"}]
[null,null,null,null,null,null,{"$f":"IF(OR(G35=\"\",G23=\"\"),\"\",G23-G35)","v":""},{"$f":"\"عدد الصفقات الخاسرة (\"&G15&\")\"","v":"عدد الصفقات الخاسرة ()"}]
[null,null,null,null,null,null,{"$f":"IF(OR(G36=\"\",G35=\"\",G34=\"\",G27=\"\"),\"\",(G35*G34)-(G36*G27))","v":""},{"$f":"\"صافي الربح/الخسارة (\"&G15&\")\"","v":"صافي الربح/الخسارة ()"}]
[null,null,null,null,null,null,{"$f":"IFERROR(Goal!N63,\"البيانات ناقصة\")","v":"البيانات ناقصة"},"أقصى ربح ممكن تحقيقه بهذه الاعدادات"]
[null,null,null,null,null,null,{"$f":"IF(OR(G17=\"\",G18=\"\",G19=\"\",G21=\"\",G26=\"\",G23=\"\",G28=\"\",G31=\"\"),K17,IF(G38<G17,IF(G14=J14,K39,M39),IF(G14=J14,J39,#REF!)))","v":"اكمل البيانات"},"هل يمكن تحقيق الهدف المطلوب",null,"نعم","لا","لايمكن تحقيق الهدف حسب اعدادات الخطة"]
[]
[]
[]
[]
[]
[null,null,null,null,"للحصول على نسخة، يرجى شراء كتاب \"السر في تداول النجاح\" متجر دار تشكيل "]
[null,null,null,null,null,"https://tashkeell.com/xAZnql"]
[null,null,null,null,null,null,"Twitter","@BetterTrend_net_"]
[null,null,null,null,null,null,"Mobile","+966-565-700-777"]
[null,null,null,null,null,null,"Email","MAY@BetterTrend.Net"]
[null,null,null,null,null,null,null,"تفضل بزيارة موقعنا"]
[null,null,null,"حقوق النسخ محفوظة",null,null,null,"www.BetterTrend.Net"]

{"sheet":"Goal","index":2,"n_rows":82,"n_cols":23,"rows_kept":82,"cut":false,"hidden":false,"merged":[[81,1,81,4],[49,13,60,13],[81,5,81,6],[69,10,69,13],[64,1,65,7],[68,1,69,7],[71,4,71,12],[72,4,72,12],[78,6,78,7],[79,6,79,7],[80,5,80,7],[77,5,77,8],[77,2,77,4],[1,2,2,2],[66,1,67,7],[66,9,66,13],[67,9,67,13],[1,11,2,13],[4,12,4,13],[5,12,5,13],[7,12,8,12],[7,13,8,13],[10,12,21,12],[10,13,21,13],[23,12,34,12],[23,13,34,13],[7,10,8,10],[7,11,8,11],[36,12,47,12],[36,13,47,13],[49,12,60,12],[1,4,1,8],[2,4,2,8]]}
[]
[null,{"$f":"N63","v":{"$error":"#VALUE!"}},"أقصى ربح ممكن تحقيقه حسب إعدادات الخطة",null,{"$f":"Plan!H17","v":"الهدف المطلوب في 4 سنوات"}]
[null,{"$f":"IF(Plan!G16=Plan!K16,B2*3.75,Plan!G16)","v":0},null,null,{"$f":"IF(Plan!G39=Plan!K39,Plan!L39,Plan!G17)","v":0}]
[]
[null,{"$f":"Plan!H27","v":"مقدار المخاطرة في الصفقة"},{"$f":"Plan!H22","v":"أقصى هامش مخاطرة ()"},null,{"$f":"Plan!H31","v":"نسبة جني الربح الشهري"},{"$f":"Plan!H32","v":"نسبة نجاح الاستراتيجية"},{"$f":"Plan!H34","v":"مقدار الربح مقابل الخسارة"},{"$f":"Plan!H27","v":"مقدار المخاطرة في الصفقة"},{"$f":"Plan!H37","v":"صافي الربح/الخسارة ()"},{"$f":"Plan!H36","v":"عدد الصفقات الخاسرة ()"},{"$f":"Plan!H35","v":"عدد الصفقات الرابحة ()"},{"$f":"Plan!H24","v":"عدد الصفقات في نفس اللحظة"},{"$f":"Plan!H23","v":"عدد الصفقات ()"}]
[null,{"$f":"Plan!G27","v":""},{"$f":"Plan!G22","v":""},null,{"$f":"Plan!G31","v":0},{"$f":"Plan!G32","v":0},{"$f":"Plan!E34","v":""},{"$f":"Plan!E27","v":""},{"$f":"Plan!G37","v":""},{"$f":"Plan!G36","v":""},{"$f":"Plan!G35","v":""},{"$f":"Plan!G24","v":0},{"$f":"Plan!G23","v":0},null,null,null,null,null,null,null,"By",{"$f":"K61","v":"1903-12-27"},"(Ensha-Allah)"]
[]
[null,{"$f":"B5","v":"مقدار المخاطرة في الصفقة"},"هامش المخاطرة المحتمل",null,"تحويلات متراكمة","الرصيد المتراكم","تحويلات","الربح الشهري",{"$f":"\"الربح ال\"&Plan!G15","v":"الربح ال"},{"$f":"Plan!H25","v":"مبلغ الصفقة الواحدة"},"التاريخ","عدد الأيام","السنة\n#","مجموع ربح السنة"]
[null,"(%)",{"$f":"E9","v":0},null,{"$f":"Plan!G16","v":0},{"$f":"Plan!G20","v":""},{"$f":"E9","v":0},{"$f":"E9","v":0},{"$f":"E9","v":0},{"$f":"E9","v":0}]
[]
[null,{"$f":"J11*$H$6","v":{"$error":"#VALUE!"}},{"$f":"J11*$H$6*$J$6","v":{"$error":"#VALUE!"}},null,{"$f":"G11","v":{"$error":"#VALUE!"}},{"$f":"F9+H11-G11","v":{"$error":"#VALUE!"}},{"$f":"H11*$E$6","v":{"$error":"#VALUE!"}},{"$f":"IF(Plan!$G$15=Plan!$L$15,Goal!I11,IF(Plan!$G$15=Plan!$J$15,Goal!I11*Goal!L11,Goal!I11*Goal!L11/5))","v":{"$error":"#VALUE!"}},{"$f":"J11*$G$6*$K$6-J11*$H$6*$J$6","v":{"$error":"#VALUE!"}},{"$f":"F9/$L$6","v":{"$error":"#VALUE!"}},{"$f":"Plan!G28","v":"00:00:00"},{"$f":"IF(MONTH(K11)=12,10,(IF(MONTH(K11)=Plan!$G$29,0,Plan!$G$30)))","v":0},1,{"$f":"SUM(H11:H22)","v":{"$error":"#VALUE!"}}]
[null,{"$f":"J12*$H$6","v":{"$error":"#VALUE!"}},{"$f":"J12*$H$6*$J$6","v":{"$error":"#VALUE!"}},null,{"$f":"G12+E11","v":{"$error":"#VALUE!"}},{"$f":"F11+H12-G12","v":{"$error":"#VALUE!"}},{"$f":"H12*$E$6","v":{"$error":"#VALUE!"}},{"$f":"IF(Plan!$G$15=Plan!$L$15,Goal!I12,IF(Plan!$G$15=Plan!$J$15,Goal!I12*Goal!L12,Goal!I12*Goal!L12/5))","v":{"$error":"#VALUE!"}},{"$f":"J12*$G$6*$K$6-J12*$H$6*$J$6","v":{"$error":"#VALUE!"}},{"$f":"F11/$L$6","v":{"$error":"#VALUE!"}},{"$f":"K11+31","v":"1900-01-31"},{"$f":"IF(MONTH(K12)=12,10,(IF(MONTH(K12)=Plan!$G$29,0,Plan!$G$30)))","v":0}]
[null,{"$error":"#VALUE!"},{"$error":"#VALUE!"},null,{"$f":"G13+E12","v":{"$error":"#VALUE!"}},{"$f":"F12+H13-G13","v":{"$error":"#VALUE!"}},{"$f":"H13*$E$6","v":{"$error":"#VALUE!"}},{"$f":"IF(Plan!$G$15=Plan!$L$15,Goal!I13,IF(Plan!$G$15=Plan!$J$15,Goal!I13*Goal!L13,Goal!I13*Goal!L13/5))","v":{"$error":"#VALUE!"}},{"$f":"J13*$G$6*$K$6-J13*$H$6*$J$6","v":{"$error":"#VALUE!"}},{"$f":"F12/$L$6","v":{"$error":"#VALUE!"}},"1900-03-02",{"$f":"IF(MONTH(K13)=12,10,(IF(MONTH(K13)=Plan!$G$29,0,Plan!$G$30)))","v":0}]
[null,{"$error":"#VALUE!"},{"$error":"#VALUE!"},null,{"$error":"#VALUE!"},{"$error":"#VALUE!"},{"$error":"#VALUE!"},{"$f":"IF(Plan!$G$15=Plan!$L$15,Goal!I14,IF(Plan!$G$15=Plan!$J$15,Goal!I14*Goal!L14,Goal!I14*Goal!L14/5))","v":{"$error":"#VALUE!"}},{"$error":"#VALUE!"},{"$error":"#VALUE!"},"1900-04-02",{"$f":"IF(MONTH(K14)=12,10,(IF(MONTH(K14)=Plan!$G$29,0,Plan!$G$30)))","v":0}]
[null,{"$error":"#VALUE!"},{"$error":"#VALUE!"},null,{"$error":"#VALUE!"},{"$error":"#VALUE!"},{"$error":"#VALUE!"},{"$f":"IF(Plan!$G$15=Plan!$L$15,Goal!I15,IF(Plan!$G$15=Plan!$J$15,Goal!I15*Goal!L15,Goal!I15*Goal!L15/5))","v":{"$error":"#VALUE!"}},{"$error":"#VALUE!"},{"$error":"#VALUE!"},"1900-05-03",{"$f":"IF(MONTH(K15)=12,10,(IF(MONTH(K15)=Plan!$G$29,0,Plan!$G$30)))","v":0}]
[null,{"$error":"#VALUE!"},{"$error":"#VALUE!"},null,{"$error":"#VALUE!"},{"$error":"#VALUE!"},{"$error":"#VALUE!"},{"$f":"IF(Plan!$G$15=Plan!$L$15,Goal!I16,IF(Plan!$G$15=Plan!$J$15,Goal!I16*Goal!L16,Goal!I16*Goal!L16/5))","v":{"$error":"#VALUE!"}},{"$error":"#VALUE!"},{"$error":"#VALUE!"},"1900-06-03",{"$f":"IF(MONTH(K16)=12,10,(IF(MONTH(K16)=Plan!$G$29,0,Plan!$G$30)))","v":0}]
[null,{"$error":"#VALUE!"},{"$error":"#VALUE!"},null,{"$error":"#VALUE!"},{"$error":"#VALUE!"},{"$error":"#VALUE!"},{"$f":"IF(Plan!$G$15=Plan!$L$15,Goal!I17,IF(Plan!$G$15=Plan!$J$15,Goal!I17*Goal!L17,Goal!I17*Goal!L17/5))","v":{"$error":"#VALUE!"}},{"$error":"#VALUE!"},{"$error":"#VALUE!"},"1900-07-04",{"$f":"IF(MONTH(K17)=12,10,(IF(MONTH(K17)=Plan!$G$29,0,Plan!$G$30)))","v":0}]
[null,{"$error":"#VALUE!"},{"$error":"#VALUE!"},null,{"$error":"#VALUE!"},{"$error":"#VALUE!"},{"$error":"#VALUE!"},{"$f":"IF(Plan!$G$15=Plan!$L$15,Goal!I18,IF(Plan!$G$15=Plan!$J$15,Goal!I18*Goal!L18,Goal!I18*Goal!L18/5))","v":{"$error":"#VALUE!"}},{"$error":"#VALUE!"},{"$error":"#VALUE!"},"1900-08-04",{"$f":"IF(MONTH(K18)=12,10,(IF(MONTH(K18)=Plan!$G$29,0,Plan!$G$30)))","v":0}]
[null,{"$error":"#VALUE!"},{"$error":"#VALUE!"},null,{"$error":"#VALUE!"},{"$error":"#VALUE!"},{"$error":"#VALUE!"},{"$f":"IF(Plan!$G$15=Plan!$L$15,Goal!I19,IF(Plan!$G$15=Plan!$J$15,Goal!I19*Goal!L19,Goal!I19*Goal!L19/5))","v":{"$error":"#VALUE!"}},{"$error":"#VALUE!"},{"$error":"#VALUE!"},"1900-09-04",{"$f":"IF(MONTH(K19)=12,10,(IF(MONTH(K19)=Plan!$G$29,0,Plan!$G$30)))","v":0}]
[null,{"$error":"#VALUE!"},{"$error":"#VALUE!"},null,{"$error":"#VALUE!"},{"$error":"#VALUE!"},{"$error":"#VALUE!"},{"$f":"IF(Plan!$G$15=Plan!$L$15,Goal!I20,IF(Plan!$G$15=Plan!$J$15,Goal!I20*Goal!L20,Goal!I20*Goal!L20/5))","v":{"$error":"#VALUE!"}},{"$error":"#VALUE!"},{"$error":"#VALUE!"},"1900-10-05",{"$f":"IF(MONTH(K20)=12,10,(IF(MONTH(K20)=Plan!$G$29,0,Plan!$G$30)))","v":0}]
[null,{"$error":"#VALUE!"},{"$error":"#VALUE!"},null,{"$error":"#VALUE!"},{"$error":"#VALUE!"},{"$error":"#VALUE!"},{"$f":"IF(Plan!$G$15=Plan!$L$15,Goal!I21,IF(Plan!$G$15=Plan!$J$15,Goal!I21*Goal!L21,Goal!I21*Goal!L21/5))","v":{"$error":"#VALUE!"}},{"$error":"#VALUE!"},{"$error":"#VALUE!"},"1900-11-05",{"$f":"IF(MONTH(K21)=12,10,(IF(MONTH(K21)=Plan!$G$29,0,Plan!$G$30)))","v":0}]
[null,{"$error":"#VALUE!"},{"$error":"#VALUE!"},null,{"$error":"#VALUE!"},{"$error":"#VALUE!"},{"$error":"#VALUE!"},{"$f":"IF(Plan!$G$15=Plan!$L$15,Goal!I22,IF(Plan!$G$15=Plan!$J$15,Goal!I22*Goal!L22,Goal!I22*Goal!L22/5))","v":{"$error":"#VALUE!"}},{"$error":"#VALUE!"},{"$error":"#VALUE!"},"1900-12-06",{"$f":"IF(MONTH(K22)=12,10,(IF(MONTH(K22)=Plan!$G$29,0,Plan!$G$30)))","v":10}]
[]
[null,{"$f":"J24*$H$6","v":{"$error":"#VALUE!"}},{"$f":"J24*$H$6*$J$6","v":{"$error":"#VALUE!"}},null,{"$f":"G24+E22","v":{"$error":"#VALUE!"}},{"$f":"F22+H24-G24","v":{"$error":"#VALUE!"}},{"$f":"H24*$E$6","v":{"$error":"#VALUE!"}},{"$f":"IF(Plan!$G$15=Plan!$L$15,Goal!I24,IF(Plan!$G$15=Plan!$J$15,Goal!I24*Goal!L24,Goal!I24*Goal!L24/5))","v":{"$error":"#VALUE!"}},{"$f":"J24*$G$6*$K$6-J24*$H$6*$J$6","v":{"$error":"#VALUE!"}},{"$f":"F22/$L$6","v":{"$error":"#VALUE!"}},{"$f":"K22+31","v":"1901-01-06"},{"$f":"IF(MONTH(K24)=12,10,(IF(MONTH(K24)=Plan!$G$29,0,Plan!$G$30)))","v":0},2,{"$f":"SUM(H24:H35)","v":{"$error":"#VALUE!"}}]
[null,{"$f":"J25*$H$6","v":{"$error":"#VALUE!"}},{"$f":"J25*$H$6*$J$6","v":{"$error":"#VALUE!"}},null,{"$f":"G25+E24","v":{"$error":"#VALUE!"}},{"$f":"F24+H25-G25","v":{"$error":"#VALUE!"}},{"$f":"H25*$E$6","v":{"$error":"#VALUE!"}},{"$f":"IF(Plan!$G$15=Plan!$L$15,Goal!I25,IF(Plan!$G$15=Plan!$J$15,Goal!I25*Goal!L25,Goal!I25*Goal!L25/5))","v":{"$error":"#VALUE!"}},{"$f":"J25*$G$6*$K$6-J25*$H$6*$J$6","v":{"$error":"#VALUE!"}},{"$f":"F24/$L$6","v":{"$error":"#VALUE!"}},{"$f":"K24+31","v":"1901-02-06"},{"$f":"IF(MONTH(K25)=12,10,(IF(MONTH(K25)=Plan!$G$29,0,Plan!$G$30)))","v":0}]
[null,{"$error":"#VALUE!"},{"$error":"#VALUE!"},null,{"$error":"#VALUE!"},{"$f":"F25+H26-G26","v":{"$error":"#VALUE!"}},{"$f":"H26*$E$6","v":{"$error":"#VALUE!"}},{"$f":"IF(Plan!$G$15=Plan!$L$15,Goal!I26,IF(Plan!$G$15=Plan!$J$15,Goal!I26*Goal!L26,Goal!I26*Goal!L26/5))","v":{"$error":"#VALUE!"}},{"$f":"J26*$G$6*$K$6-J26*$H$6*$J$6","v":{"$error":"#VALUE!"}},{"$f":"F25/$L$6","v":{"$error":"#VALUE!"}},"1901-03-09",{"$f":"IF(MONTH(K26)=12,10,(IF(MONTH(K26)=Plan!$G$29,0,Plan!$G$30)))","v":0}]
[null,{"$error":"#VALUE!"},{"$error":"#VALUE!"},null,{"$error":"#VALUE!"},{"$error":"#VALUE!"},{"$error":"#VALUE!"},{"$f":"IF(Plan!$G$15=Plan!$L$15,Goal!I27,IF(Plan!$G$15=Plan!$J$15,Goal!I27*Goal!L27,Goal!I27*Goal!L27/5))","v":{"$error":"#VALUE!"}},{"$error":"#VALUE!"},{"$error":"#VALUE!"},"1901-04-09",{"$f":"IF(MONTH(K27)=12,10,(IF(MONTH(K27)=Plan!$G$29,0,Plan!$G$30)))","v":0}]
[null,{"$error":"#VALUE!"},{"$error":"#VALUE!"},null,{"$error":"#VALUE!"},{"$error":"#VALUE!"},{"$error":"#VALUE!"},{"$f":"IF(Plan!$G$15=Plan!$L$15,Goal!I28,IF(Plan!$G$15=Plan!$J$15,Goal!I28*Goal!L28,Goal!I28*Goal!L28/5))","v":{"$error":"#VALUE!"}},{"$error":"#VALUE!"},{"$error":"#VALUE!"},"1901-05-10",{"$f":"IF(MONTH(K28)=12,10,(IF(MONTH(K28)=Plan!$G$29,0,Plan!$G$30)))","v":0}]
[null,{"$error":"#VALUE!"},{"$error":"#VALUE!"},null,{"$error":"#VALUE!"},{"$error":"#VALUE!"},{"$error":"#VALUE!"},{"$f":"IF(Plan!$G$15=Plan!$L$15,Goal!I29,IF(Plan!$G$15=Plan!$J$15,Goal!I29*Goal!L29,Goal!I29*Goal!L29/5))","v":{"$error":"#VALUE!"}},{"$error":"#VALUE!"},{"$error":"#VALUE!"},"1901-06-10",{"$f":"IF(MONTH(K29)=12,10,(IF(MONTH(K29)=Plan!$G$29,0,Plan!$G$30)))","v":0}]
[null,{"$error":"#VALUE!"},{"$error":"#VALUE!"},null,{"$error":"#VALUE!"},{"$error":"#VALUE!"},{"$error":"#VALUE!"},{"$f":"IF(Plan!$G$15=Plan!$L$15,Goal!I30,IF(Plan!$G$15=Plan!$J$15,Goal!I30*Goal!L30,Goal!I30*Goal!L30/5))","v":{"$error":"#VALUE!"}},{"$error":"#VALUE!"},{"$error":"#VALUE!"},"1901-07-11",{"$f":"IF(MONTH(K30)=12,10,(IF(MONTH(K30)=Plan!$G$29,0,Plan!$G$30)))","v":0}]
[null,{"$error":"#VALUE!"},{"$error":"#VALUE!"},null,{"$error":"#VALUE!"},{"$error":"#VALUE!"},{"$error":"#VALUE!"},{"$f":"IF(Plan!$G$15=Plan!$L$15,Goal!I31,IF(Plan!$G$15=Plan!$J$15,Goal!I31*Goal!L31,Goal!I31*Goal!L31/5))","v":{"$error":"#VALUE!"}},{"$error":"#VALUE!"},{"$error":"#VALUE!"},"1901-08-11",{"$f":"IF(MONTH(K31)=12,10,(IF(MONTH(K31)=Plan!$G$29,0,Plan!$G$30)))","v":0}]
[null,{"$error":"#VALUE!"},{"$error":"#VALUE!"},null,{"$error":"#VALUE!"},{"$error":"#VALUE!"},{"$error":"#VALUE!"},{"$f":"IF(Plan!$G$15=Plan!$L$15,Goal!I32,IF(Plan!$G$15=Plan!$J$15,Goal!I32*Goal!L32,Goal!I32*Goal!L32/5))","v":{"$error":"#VALUE!"}},{"$error":"#VALUE!"},{"$error":"#VALUE!"},"1901-09-11",{"$f":"IF(MONTH(K32)=12,10,(IF(MONTH(K32)=Plan!$G$29,0,Plan!$G$30)))","v":0}]
[null,{"$error":"#VALUE!"},{"$error":"#VALUE!"},null,{"$error":"#VALUE!"},{"$error":"#VALUE!"},{"$error":"#VALUE!"},{"$f":"IF(Plan!$G$15=Plan!$L$15,Goal!I33,IF(Plan!$G$15=Plan!$J$15,Goal!I33*Goal!L33,Goal!I33*Goal!L33/5))","v":{"$error":"#VALUE!"}},{"$error":"#VALUE!"},{"$error":"#VALUE!"},"1901-10-12",{"$f":"IF(MONTH(K33)=12,10,(IF(MONTH(K33)=Plan!$G$29,0,Plan!$G$30)))","v":0}]
[null,{"$error":"#VALUE!"},{"$error":"#VALUE!"},null,{"$error":"#VALUE!"},{"$error":"#VALUE!"},{"$error":"#VALUE!"},{"$f":"IF(Plan!$G$15=Plan!$L$15,Goal!I34,IF(Plan!$G$15=Plan!$J$15,Goal!I34*Goal!L34,Goal!I34*Goal!L34/5))","v":{"$error":"#VALUE!"}},{"$error":"#VALUE!"},{"$error":"#VALUE!"},"1901-11-12",{"$f":"IF(MONTH(K34)=12,10,(IF(MONTH(K34)=Plan!$G$29,0,Plan!$G$30)))","v":0}]
[null,{"$error":"#VALUE!"},{"$error":"#VALUE!"},null,{"$error":"#VALUE!"},{"$error":"#VALUE!"},{"$error":"#VALUE!"},{"$f":"IF(Plan!$G$15=Plan!$L$15,Goal!I35,IF(Plan!$G$15=Plan!$J$15,Goal!I35*Goal!L35,Goal!I35*Goal!L35/5))","v":{"$error":"#VALUE!"}},{"$error":"#VALUE!"},{"$error":"#VALUE!"},"1901-12-13",{"$f":"IF(MONTH(K35)=12,10,(IF(MONTH(K35)=Plan!$G$29,0,Plan!$G$30)))","v":10}]
[]
[null,{"$f":"J37*$H$6","v":{"$error":"#VALUE!"}},{"$f":"J37*$H$6*$J$6","v":{"$error":"#VALUE!"}},null,{"$f":"G37+E35","v":{"$error":"#VALUE!"}},{"$f":"F35+H37-G37","v":{"$error":"#VALUE!"}},{"$f":"H37*$E$6","v":{"$error":"#VALUE!"}},{"$f":"IF(Plan!$G$15=Plan!$L$15,Goal!I37,IF(Plan!$G$15=Plan!$J$15,Goal!I37*Goal!L37,Goal!I37*Goal!L37/5))","v":{"$error":"#VALUE!"}},{"$f":"J37*$G$6*$K$6-J37*$H$6*$J$6","v":{"$error":"#VALUE!"}},{"$f":"F35/$L$6","v":{"$error":"#VALUE!"}},{"$f":"K35+31","v":"1902-01-13"},{"$f":"IF(MONTH(K37)=12,10,(IF(MONTH(K37)=Plan!$G$29,0,Plan!$G$30)))","v":0},3,{"$f":"SUM(H37:H48)","v":{"$error":"#VALUE!"}}]
[null,{"$f":"J38*$H$6","v":{"$error":"#VALUE!"}},{"$f":"J38*$H$6*$J$6","v":{"$error":"#VALUE!"}},null,{"$f":"G38+E37","v":{"$error":"#VALUE!"}},{"$f":"F37+H38-G38","v":{"$error":"#VALUE!"}},{"$f":"H38*$E$6","v":{"$error":"#VALUE!"}},{"$f":"IF(Plan!$G$15=Plan!$L$15,Goal!I38,IF(Plan!$G$15=Plan!$J$15,Goal!I38*Goal!L38,Goal!I38*Goal!L38/5))","v":{"$error":"#VALUE!"}},{"$f":"J38*$G$6*$K$6-J38*$H$6*$J$6","v":{"$error":"#VALUE!"}},{"$f":"F37/$L$6","v":{"$error":"#VALUE!"}},{"$f":"K37+31","v":"1902-02-13"},{"$f":"IF(MONTH(K38)=12,10,(IF(MONTH(K38)=Plan!$G$29,0,Plan!$G$30)))","v":0}]
[null,{"$error":"#VALUE!"},{"$error":"#VALUE!"},null,{"$error":"#VALUE!"},{"$f":"F38+H39-G39","v":{"$error":"#VALUE!"}},{"$f":"H39*$E$6","v":{"$error":"#VALUE!"}},{"$f":"IF(Plan!$G$15=Plan!$L$15,Goal!I39,IF(Plan!$G$15=Plan!$J$15,Goal!I39*Goal!L39,Goal!I39*Goal!L39/5))","v":{"$error":"#VALUE!"}},{"$f":"J39*$G$6*$K$6-J39*$H$6*$J$6","v":{"$error":"#VALUE!"}},{"$f":"F38/$L$6","v":{"$error":"#VALUE!"}},"1902-03-16",{"$f":"IF(MONTH(K39)=12,10,(IF(MONTH(K39)=Plan!$G$29,0,Plan!$G$30)))","v":0}]
[null,{"$error":"#VALUE!"},{"$error":"#VALUE!"},null,{"$error":"#VALUE!"},{"$error":"#VALUE!"},{"$error":"#VALUE!"},{"$f":"IF(Plan!$G$15=Plan!$L$15,Goal!I40,IF(Plan!$G$15=Plan!$J$15,Goal!I40*Goal!L40,Goal!I40*Goal!L40/5))","v":{"$error":"#VALUE!"}},{"$error":"#VALUE!"},{"$error":"#VALUE!"},"1902-04-16",{"$f":"IF(MONTH(K40)=12,10,(IF(MONTH(K40)=Plan!$G$29,0,Plan!$G$30)))","v":0}]
[null,{"$error":"#VALUE!"},{"$error":"#VALUE!"},null,{"$error":"#VALUE!"},{"$error":"#VALUE!"},{"$error":"#VALUE!"},{"$f":"IF(Plan!$G$15=Plan!$L$15,Goal!I41,IF(Plan!$G$15=Plan!$J$15,Goal!I41*Goal!L41,Goal!I41*Goal!L41/5))","v":{"$error":"#VALUE!"}},{"$error":"#VALUE!"},{"$error":"#VALUE!"},"1902-05-17",{"$f":"IF(MONTH(K41)=12,10,(IF(MONTH(K41)=Plan!$G$29,0,Plan!$G$30)))","v":0}]
[null,{"$error":"#VALUE!"},{"$error":"#VALUE!"},null,{"$error":"#VALUE!"},{"$error":"#VALUE!"},{"$error":"#VALUE!"},{"$f":"IF(Plan!$G$15=Plan!$L$15,Goal!I42,IF(Plan!$G$15=Plan!$J$15,Goal!I42*Goal!L42,Goal!I42*Goal!L42/5))","v":{"$error":"#VALUE!"}},{"$error":"#VALUE!"},{"$error":"#VALUE!"},"1902-06-17",{"$f":"IF(MONTH(K42)=12,10,(IF(MONTH(K42)=Plan!$G$29,0,Plan!$G$30)))","v":0}]
[null,{"$error":"#VALUE!"},{"$error":"#VALUE!"},null,{"$error":"#VALUE!"},{"$error":"#VALUE!"},{"$error":"#VALUE!"},{"$f":"IF(Plan!$G$15=Plan!$L$15,Goal!I43,IF(Plan!$G$15=Plan!$J$15,Goal!I43*Goal!L43,Goal!I43*Goal!L43/5))","v":{"$error":"#VALUE!"}},{"$error":"#VALUE!"},{"$error":"#VALUE!"},"1902-07-18",{"$f":"IF(MONTH(K43)=12,10,(IF(MONTH(K43)=Plan!$G$29,0,Plan!$G$30)))","v":0}]
[null,{"$error":"#VALUE!"},{"$error":"#VALUE!"},null,{"$error":"#VALUE!"},{"$error":"#VALUE!"},{"$error":"#VALUE!"},{"$f":"IF(Plan!$G$15=Plan!$L$15,Goal!I44,IF(Plan!$G$15=Plan!$J$15,Goal!I44*Goal!L44,Goal!I44*Goal!L44/5))","v":{"$error":"#VALUE!"}},{"$error":"#VALUE!"},{"$error":"#VALUE!"},"1902-08-18",{"$f":"IF(MONTH(K44)=12,10,(IF(MONTH(K44)=Plan!$G$29,0,Plan!$G$30)))","v":0}]
[null,{"$error":"#VALUE!"},{"$error":"#VALUE!"},null,{"$error":"#VALUE!"},{"$error":"#VALUE!"},{"$error":"#VALUE!"},{"$f":"IF(Plan!$G$15=Plan!$L$15,Goal!I45,IF(Plan!$G$15=Plan!$J$15,Goal!I45*Goal!L45,Goal!I45*Goal!L45/5))","v":{"$error":"#VALUE!"}},{"$error":"#VALUE!"},{"$error":"#VALUE!"},"1902-09-18",{"$f":"IF(MONTH(K45)=12,10,(IF(MONTH(K45)=Plan!$G$29,0,Plan!$G$30)))","v":0}]
[null,{"$error":"#VALUE!"},{"$error":"#VALUE!"},null,{"$error":"#VALUE!"},{"$error":"#VALUE!"},{"$error":"#VALUE!"},{"$f":"IF(Plan!$G$15=Plan!$L$15,Goal!I46,IF(Plan!$G$15=Plan!$J$15,Goal!I46*Goal!L46,Goal!I46*Goal!L46/5))","v":{"$error":"#VALUE!"}},{"$error":"#VALUE!"},{"$error":"#VALUE!"},"1902-10-19",{"$f":"IF(MONTH(K46)=12,10,(IF(MONTH(K46)=Plan!$G$29,0,Plan!$G$30)))","v":0}]
[null,{"$error":"#VALUE!"},{"$error":"#VALUE!"},null,{"$error":"#VALUE!"},{"$error":"#VALUE!"},{"$error":"#VALUE!"},{"$f":"IF(Plan!$G$15=Plan!$L$15,Goal!I47,IF(Plan!$G$15=Plan!$J$15,Goal!I47*Goal!L47,Goal!I47*Goal!L47/5))","v":{"$error":"#VALUE!"}},{"$error":"#VALUE!"},{"$error":"#VALUE!"},"1902-11-19",{"$f":"IF(MONTH(K47)=12,10,(IF(MONTH(K47)=Plan!$G$29,0,Plan!$G$30)))","v":0}]
[null,{"$error":"#VALUE!"},{"$error":"#VALUE!"},null,{"$error":"#VALUE!"},{"$error":"#VALUE!"},{"$error":"#VALUE!"},{"$f":"IF(Plan!$G$15=Plan!$L$15,Goal!I48,IF(Plan!$G$15=Plan!$J$15,Goal!I48*Goal!L48,Goal!I48*Goal!L48/5))","v":{"$error":"#VALUE!"}},{"$error":"#VALUE!"},{"$error":"#VALUE!"},"1902-12-20",{"$f":"IF(MONTH(K48)=12,10,(IF(MONTH(K48)=Plan!$G$29,0,Plan!$G$30)))","v":10}]
[]
[null,{"$f":"J50*$H$6","v":{"$error":"#VALUE!"}},{"$f":"J50*$H$6*$J$6","v":{"$error":"#VALUE!"}},null,{"$f":"G50+E48","v":{"$error":"#VALUE!"}},{"$f":"F48+H50-G50","v":{"$error":"#VALUE!"}},{"$f":"H50*$E$6","v":{"$error":"#VALUE!"}},{"$f":"IF(Plan!$G$15=Plan!$L$15,Goal!I50,IF(Plan!$G$15=Plan!$J$15,Goal!I50*Goal!L50,Goal!I50*Goal!L50/5))","v":{"$error":"#VALUE!"}},{"$f":"J50*$G$6*$K$6-J50*$H$6*$J$6","v":{"$error":"#VALUE!"}},{"$f":"F48/$L$6","v":{"$error":"#VALUE!"}},{"$f":"K48+31","v":"1903-01-20"},{"$f":"IF(MONTH(K50)=12,10,(IF(MONTH(K50)=Plan!$G$29,0,Plan!$G$30)))","v":0},4,{"$f":"SUM(H50:H61)","v":{"$error":"#VALUE!"}}]
[null,{"$f":"J51*$H$6","v":{"$error":"#VALUE!"}},{"$f":"J51*$H$6*$J$6","v":{"$error":"#VALUE!"}},null,{"$f":"G51+E50","v":{"$error":"#VALUE!"}},{"$f":"F50+H51-G51","v":{"$error":"#VALUE!"}},{"$f":"H51*$E$6","v":{"$error":"#VALUE!"}},{"$f":"IF(Plan!$G$15=Plan!$L$15,Goal!I51,IF(Plan!$G$15=Plan!$J$15,Goal!I51*Goal!L51,Goal!I51*Goal!L51/5))","v":{"$error":"#VALUE!"}},{"$f":"J51*$G$6*$K$6-J51*$H$6*$J$6","v":{"$error":"#VALUE!"}},{"$f":"F50/$L$6","v":{"$error":"#VALUE!"}},{"$f":"K50+31","v":"1903-02-20"},{"$f":"IF(MONTH(K51)=12,10,(IF(MONTH(K51)=Plan!$G$29,0,Plan!$G$30)))","v":0}]
[null,{"$error":"#VALUE!"},{"$error":"#VALUE!"},null,{"$error":"#VALUE!"},{"$f":"F51+H52-G52","v":{"$error":"#VALUE!"}},{"$f":"H52*$E$6","v":{"$error":"#VALUE!"}},{"$f":"IF(Plan!$G$15=Plan!$L$15,Goal!I52,IF(Plan!$G$15=Plan!$J$15,Goal!I52*Goal!L52,Goal!I52*Goal!L52/5))","v":{"$error":"#VALUE!"}},{"$f":"J52*$G$6*$K$6-J52*$H$6*$J$6","v":{"$error":"#VALUE!"}},{"$f":"F51/$L$6","v":{"$error":"#VALUE!"}},"1903-03-23",{"$f":"IF(MONTH(K52)=12,10,(IF(MONTH(K52)=Plan!$G$29,0,Plan!$G$30)))","v":0}]
[null,{"$error":"#VALUE!"},{"$error":"#VALUE!"},null,{"$error":"#VALUE!"},{"$error":"#VALUE!"},{"$error":"#VALUE!"},{"$f":"IF(Plan!$G$15=Plan!$L$15,Goal!I53,IF(Plan!$G$15=Plan!$J$15,Goal!I53*Goal!L53,Goal!I53*Goal!L53/5))","v":{"$error":"#VALUE!"}},{"$error":"#VALUE!"},{"$error":"#VALUE!"},"1903-04-23",{"$f":"IF(MONTH(K53)=12,10,(IF(MONTH(K53)=Plan!$G$29,0,Plan!$G$30)))","v":0}]
[null,{"$error":"#VALUE!"},{"$error":"#VALUE!"},null,{"$error":"#VALUE!"},{"$error":"#VALUE!"},{"$error":"#VALUE!"},{"$f":"IF(Plan!$G$15=Plan!$L$15,Goal!I54,IF(Plan!$G$15=Plan!$J$15,Goal!I54*Goal!L54,Goal!I54*Goal!L54/5))","v":{"$error":"#VALUE!"}},{"$error":"#VALUE!"},{"$error":"#VALUE!"},"1903-05-24",{"$f":"IF(MONTH(K54)=12,10,(IF(MONTH(K54)=Plan!$G$29,0,Plan!$G$30)))","v":0}]
[null,{"$error":"#VALUE!"},{"$error":"#VALUE!"},null,{"$error":"#VALUE!"},{"$error":"#VALUE!"},{"$error":"#VALUE!"},{"$f":"IF(Plan!$G$15=Plan!$L$15,Goal!I55,IF(Plan!$G$15=Plan!$J$15,Goal!I55*Goal!L55,Goal!I55*Goal!L55/5))","v":{"$error":"#VALUE!"}},{"$error":"#VALUE!"},{"$error":"#VALUE!"},"1903-06-24",{"$f":"IF(MONTH(K55)=12,10,(IF(MONTH(K55)=Plan!$G$29,0,Plan!$G$30)))","v":0}]
[null,{"$error":"#VALUE!"},{"$error":"#VALUE!"},null,{"$error":"#VALUE!"},{"$error":"#VALUE!"},{"$error":"#VALUE!"},{"$f":"IF(Plan!$G$15=Plan!$L$15,Goal!I56,IF(Plan!$G$15=Plan!$J$15,Goal!I56*Goal!L56,Goal!I56*Goal!L56/5))","v":{"$error":"#VALUE!"}},{"$error":"#VALUE!"},{"$error":"#VALUE!"},"1903-07-25",{"$f":"IF(MONTH(K56)=12,10,(IF(MONTH(K56)=Plan!$G$29,0,Plan!$G$30)))","v":0}]
[null,{"$error":"#VALUE!"},{"$error":"#VALUE!"},null,{"$error":"#VALUE!"},{"$error":"#VALUE!"},{"$error":"#VALUE!"},{"$f":"IF(Plan!$G$15=Plan!$L$15,Goal!I57,IF(Plan!$G$15=Plan!$J$15,Goal!I57*Goal!L57,Goal!I57*Goal!L57/5))","v":{"$error":"#VALUE!"}},{"$error":"#VALUE!"},{"$error":"#VALUE!"},"1903-08-25",{"$f":"IF(MONTH(K57)=12,10,(IF(MONTH(K57)=Plan!$G$29,0,Plan!$G$30)))","v":0}]
[null,{"$error":"#VALUE!"},{"$error":"#VALUE!"},null,{"$error":"#VALUE!"},{"$error":"#VALUE!"},{"$error":"#VALUE!"},{"$f":"IF(Plan!$G$15=Plan!$L$15,Goal!I58,IF(Plan!$G$15=Plan!$J$15,Goal!I58*Goal!L58,Goal!I58*Goal!L58/5))","v":{"$error":"#VALUE!"}},{"$error":"#VALUE!"},{"$error":"#VALUE!"},"1903-09-25",{"$f":"IF(MONTH(K58)=12,10,(IF(MONTH(K58)=Plan!$G$29,0,Plan!$G$30)))","v":0}]
[null,{"$error":"#VALUE!"},{"$error":"#VALUE!"},null,{"$error":"#VALUE!"},{"$error":"#VALUE!"},{"$error":"#VALUE!"},{"$f":"IF(Plan!$G$15=Plan!$L$15,Goal!I59,IF(Plan!$G$15=Plan!$J$15,Goal!I59*Goal!L59,Goal!I59*Goal!L59/5))","v":{"$error":"#VALUE!"}},{"$error":"#VALUE!"},{"$error":"#VALUE!"},"1903-10-26",{"$f":"IF(MONTH(K59)=12,10,(IF(MONTH(K59)=Plan!$G$29,0,Plan!$G$30)))","v":0}]
[null,{"$error":"#VALUE!"},{"$error":"#VALUE!"},null,{"$error":"#VALUE!"},{"$error":"#VALUE!"},{"$error":"#VALUE!"},{"$f":"IF(Plan!$G$15=Plan!$L$15,Goal!I60,IF(Plan!$G$15=Plan!$J$15,Goal!I60*Goal!L60,Goal!I60*Goal!L60/5))","v":{"$error":"#VALUE!"}},{"$error":"#VALUE!"},{"$error":"#VALUE!"},"1903-11-26",{"$f":"IF(MONTH(K60)=12,10,(IF(MONTH(K60)=Plan!$G$29,0,Plan!$G$30)))","v":0}]
[null,{"$error":"#VALUE!"},{"$error":"#VALUE!"},null,{"$error":"#VALUE!"},{"$error":"#VALUE!"},{"$error":"#VALUE!"},{"$f":"IF(Plan!$G$15=Plan!$L$15,Goal!I61,IF(Plan!$G$15=Plan!$J$15,Goal!I61*Goal!L61,Goal!I61*Goal!L61/5))","v":{"$error":"#VALUE!"}},{"$error":"#VALUE!"},{"$error":"#VALUE!"},"1903-12-27",{"$f":"IF(MONTH(K61)=12,10,(IF(MONTH(K61)=Plan!$G$29,0,Plan!$G$30)))","v":10}]
[]
[null,null,null,null,null,{"$f":"F61","v":{"$error":"#VALUE!"}},{"$f":"SUM(G11:G61)","v":{"$error":"#VALUE!"}},{"$f":"SUM(H11:H61)","v":{"$error":"#VALUE!"}},null,null,null,{"$f":"SUM(L11:L61)","v":40},null,{"$f":"SUM(N11:N61)","v":{"$error":"#VALUE!"}}]
[]
[null,"هدف بلا خطة وبلا جهد، مجرد أحلام وأمنيات"]
[]
[null,"قليل دائم، خير من كثير زائل",null,null,null,null,null,null,null,"التوقيع على الالتزام بالخطة وعدم الاستسلام"]
[]
[null,"إن لم تكن تخطط للنجاح، فأنت تلقائياً تخطط للفشل"]
[null,null,null,null,null,null,null,null,null,{"$f":"IF(Start!E17=\"\",\"\",Plan!G10)","v":""},{"$f":"IF(Start!E16=\"\",\"\",Plan!G7)","v":""}]
[]
[null,null,null,null,"تحقيق هذا الهدف مرتبط ارتباطاً كاملاً بإكمال الإعدادات والتأكد من نسبة نجاح الاستراتيجية والتطبيق الصحيح لخطة التداول ",null,null,null,null,null,null,null,null,"×"]
[null,null,null,null,"ينبغي أن تتأكد بنفسك من نسبة نجاح الاستراتيجية من خلال الاختبارات التاريخية وتوثيقها",null,null,null,null,null,null,null,null,"×"]
[]
[]
[]
[]
[null,null,"https://tashkeell.com/xAZnql",null,null,"للحصول على نسخة، يرجى شراء كتاب \"السر في تداول النجاح\" متجر دار تشكيل "]
[null,null,null,null,null,null,"@BetterTrend_net_",null,"Twitter"]
[null,null,null,null,null,null,"+966-565-700-777",null,"Mobile"]
[null,null,null,null,null,"MAY@BetterTrend.Net",null,null,"Email"]
[null,"حقوق النسخ محفوظة",null,null,null,"www.BetterTrend.Net",null,"تفضل بزيارة موقعنا"]